BEGIN:VCALENDAR
VERSION:2.0
PRODID:-//Mountain View United Methodist Church - ECPv4.5.12.3//NONSGML v1.0//EN
CALSCALE:GREGORIAN
METHOD:PUBLISH
X-WR-CALNAME:Mountain View United Methodist Church
X-ORIGINAL-URL:https://mtview.org
X-WR-CALDESC:Events for Mountain View United Methodist Church
BEGIN:VEVENT
DTSTART;VALUE=DATE:20220612
DTEND;VALUE=DATE:20220612
DTSTAMP:20260422T223914
CREATED:20220511T191805Z
LAST-MODIFIED:20220511T191805Z
UID:8284-1654992000-1655078399@mtview.org
SUMMARY:All Church Luncheon
DESCRIPTION:All Church Luncheon \nSunday\, June 12\, after 10:00 am Worship \nUnited Women in Faith (United Methodist Women) invite you to save the date for an all-church luncheon. We plan to honor one of our long-time members who has been a great help to UMW over the years.  Please plan to join us in Barker Hall for a light meal to celebrate one of our own.  We look forward to having lunch together with you!  \n
URL:https://mtview.org/event/all-church-luncheon/
CATEGORIES:Events
ATTACH;FMTTYPE=image/jpeg:https://mtview.org/wp-content/uploads/2022/05/Announcement-slide-All-Church-Luncheon.jpg
END:VEVENT
END:VCALENDAR