BEGIN:VCALENDAR
VERSION:2.0
PRODID:-//Mountain View United Methodist Church - ECPv4.5.12.3//NONSGML v1.0//EN
CALSCALE:GREGORIAN
METHOD:PUBLISH
X-WR-CALNAME:Mountain View United Methodist Church
X-ORIGINAL-URL:https://mtview.org
X-WR-CALDESC:Events for Mountain View United Methodist Church
BEGIN:VEVENT
DTSTART;VALUE=DATE:20220302
DTEND;VALUE=DATE:20220302
DTSTAMP:20260421T125147
CREATED:20220223T181331Z
LAST-MODIFIED:20220223T181331Z
UID:8117-1646179200-1646265599@mtview.org
SUMMARY:Ash Wednesday
DESCRIPTION:Ash Wednesday: Wednesday\, March 2 \n12:00 – 3:00 pm: Ashes available for self-imposition in the Sanctuary. \n7:00 pm: Service \n
URL:https://mtview.org/event/ash-wednesday-2/
CATEGORIES:Events
ATTACH;FMTTYPE=image/jpeg:https://mtview.org/wp-content/uploads/2022/02/Announcement-slide-Ash-Wednesday.jpg
END:VEVENT
END:VCALENDAR