BEGIN:VCALENDAR
VERSION:2.0
PRODID:-//Mountain View United Methodist Church - ECPv4.5.12.3//NONSGML v1.0//EN
CALSCALE:GREGORIAN
METHOD:PUBLISH
X-WR-CALNAME:Mountain View United Methodist Church
X-ORIGINAL-URL:https://mtview.org
X-WR-CALDESC:Events for Mountain View United Methodist Church
BEGIN:VEVENT
DTSTART;VALUE=DATE:20210217
DTEND;VALUE=DATE:20210217
DTSTAMP:20260421T124458
CREATED:20210210T201248Z
LAST-MODIFIED:20210210T201248Z
UID:7103-1613520000-1613606399@mtview.org
SUMMARY:Ash Wednesday
DESCRIPTION:Ash Wednesday Ash Imposition\nWednesday\, February 17\, 12:00 – 2:00 pm\, 6:00 – 8:00 pm\nAll are welcome to impose their own ashes this Ash Wednesday. We will be providing individual cups of ashes at different stations in the Sanctuary that you will be able to\, in limited numbers at a time\, pick up during a 2-hour block in the afternoon or evening. \nPlease wear masks\, socially distance\, use hand sanitizer\, and stay home if you are feeling any symptoms. \n
URL:https://mtview.org/event/ash-wednesday/
CATEGORIES:Events
END:VEVENT
END:VCALENDAR