BEGIN:VCALENDAR
VERSION:2.0
PRODID:-//Mountain View United Methodist Church - ECPv4.5.12.3//NONSGML v1.0//EN
CALSCALE:GREGORIAN
METHOD:PUBLISH
X-WR-CALNAME:Mountain View United Methodist Church
X-ORIGINAL-URL:https://mtview.org
X-WR-CALDESC:Events for Mountain View United Methodist Church
BEGIN:VEVENT
DTSTART;VALUE=DATE:20170730
DTEND;VALUE=DATE:20170730
DTSTAMP:20260421T142324
CREATED:20170721T023002Z
LAST-MODIFIED:20170721T023002Z
UID:3649-1501372800-1501459199@mtview.org
SUMMARY:Baby Celebration: July 30
DESCRIPTION:Baby Celebration July 30 Between Services\nHas your family welcomed a new baby in the last 12 months? New grandbabies\, nieces and nephews\, cousins\, and more will be oohed and ahhed over as we celebrate families near and far. To include your family addition in the celebration\, please send baby photos with name and birthdate to the church office by July 27 for our display\, and join us in the Narthex on July 30 for cake! \n
URL:https://mtview.org/event/baby-celebration-july-30/
CATEGORIES:Events
END:VEVENT
END:VCALENDAR