BEGIN:VCALENDAR
VERSION:2.0
PRODID:-//Mountain View United Methodist Church - ECPv4.5.12.3//NONSGML v1.0//EN
CALSCALE:GREGORIAN
METHOD:PUBLISH
X-WR-CALNAME:Mountain View United Methodist Church
X-ORIGINAL-URL:https://mtview.org
X-WR-CALDESC:Events for Mountain View United Methodist Church
BEGIN:VEVENT
DTSTART;VALUE=DATE:20190806
DTEND;VALUE=DATE:20190807
DTSTAMP:20260421T125719
CREATED:20190703T174713Z
LAST-MODIFIED:20190703T174713Z
UID:5828-1565049600-1565222399@mtview.org
SUMMARY:Bead for Life Volunteer Opportunity
DESCRIPTION:BeadForLife Volunteer Opportunity\nWe will visit BeadForLife in Gunbarrel to help count beads on two dates: Tuesday\, August 6\, 10:00 am – 12:00 pm\, and Wednesday\, August 7\, 10:00 am – 12:00 pm. Maps will be available in the Narthex\, if not online. Carpooling could happen if you arrange in advance with Jane Rivette\, (720) 887-5712. \n
URL:https://mtview.org/event/bead-life-volunteer-opportunity/
CATEGORIES:Events
END:VEVENT
END:VCALENDAR