BEGIN:VCALENDAR
VERSION:2.0
PRODID:-//Mountain View United Methodist Church - ECPv4.5.12.3//NONSGML v1.0//EN
CALSCALE:GREGORIAN
METHOD:PUBLISH
X-WR-CALNAME:Mountain View United Methodist Church
X-ORIGINAL-URL:https://mtview.org
X-WR-CALDESC:Events for Mountain View United Methodist Church
BEGIN:VEVENT
DTSTART;VALUE=DATE:20190811
DTEND;VALUE=DATE:20190811
DTSTAMP:20260421T142134
CREATED:20180727T014911Z
LAST-MODIFIED:20190812T170419Z
UID:4644-1565481600-1565567999@mtview.org
SUMMARY:Blessing of the Animals
DESCRIPTION:Blessing of the Animals: Sunday\, August 11\nFor our special Blessing of the Animals Service this year\, we are asking for you to submit pictures of your pets to be displayed and bring a token from your pet to be blessed. In honor of the occasion\, there will be a donation made to the Humane Society from our church. Because the service is indoors\, please leave your pets at home\, but be sure to send in their picture (office@mtview.org) to be displayed during the blessing! \n
URL:https://mtview.org/event/blessing-of-the-animals/
CATEGORIES:Events
END:VEVENT
END:VCALENDAR