BEGIN:VCALENDAR
VERSION:2.0
PRODID:-//Mountain View United Methodist Church - ECPv4.5.12.3//NONSGML v1.0//EN
CALSCALE:GREGORIAN
METHOD:PUBLISH
X-WR-CALNAME:Mountain View United Methodist Church
X-ORIGINAL-URL:https://mtview.org
X-WR-CALDESC:Events for Mountain View United Methodist Church
BEGIN:VEVENT
DTSTART;VALUE=DATE:20210618
DTEND;VALUE=DATE:20210618
DTSTAMP:20260421T095856
CREATED:20210529T180150Z
LAST-MODIFIED:20210529T180150Z
UID:7396-1623974400-1624060799@mtview.org
SUMMARY:Cal-Wood Mini Mission
DESCRIPTION:Cal-Wood Opportunities: \nYouth Mini-Mission Trip: June 18 – 19              \nBUMMP has organized work days at Cal-Wood Education Center for repair work that needs to be done due to last year’s fire. Cal-Wood staff will guide volunteers through projects to develop erosion control barriers\, reseeding grasses\, planting trees\, rebuilding bridges and picnic benches\, rebuilding trails\, and more!   \nOur Crossfyre youth will be heading up to Cal-Wood on Saturday\, June 19. Other youth groups in our circuit are planning to participate in that work day as well.  \nWe will enjoy a simple breakfast in the morning before carpooling to Cal-Wood as a group. Youth should pack a lunch for Saturday from home. Please let Larissa know (children@mtview.org) who plans to attend! Once we have an idea of who is coming we will decide on Friday’s activity and time.  \nBUMMP Volunteer Days at Cal-Wood              \nJune 15-16 (overnight group) or (9-4 daily); June 19 (9-4). Day events are for teens and adults. Families with children younger than 13 are welcome to come to attend the overnight sessions. Cal-Wood welcomes those attending the overnight dates to bring their camping gear and camp at the facility! Sign up with Belinda Strickland: sbstrickland@mac.com. \n
URL:https://mtview.org/event/cal-wood-mini-mission/
CATEGORIES:Events
END:VEVENT
END:VCALENDAR