BEGIN:VCALENDAR
VERSION:2.0
PRODID:-//Mountain View United Methodist Church - ECPv4.5.12.3//NONSGML v1.0//EN
CALSCALE:GREGORIAN
METHOD:PUBLISH
X-WR-CALNAME:Mountain View United Methodist Church
X-ORIGINAL-URL:https://mtview.org
X-WR-CALDESC:Events for Mountain View United Methodist Church
BEGIN:VEVENT
DTSTART;VALUE=DATE:20190630
DTEND;VALUE=DATE:20190630
DTSTAMP:20260421T125545
CREATED:20190530T120105Z
LAST-MODIFIED:20190530T120105Z
UID:5689-1561852800-1561939199@mtview.org
SUMMARY:Celebration for Pastor Steve
DESCRIPTION:This month we will have the opportunity to say goodbye to our pastors and wish them well on their next chapters. \nFor Pastor Steve: \nMountain View will gather immediately following the combined outdoor worship service on June 30 to celebrate the ministry of Rev. Steve Warren.  Steve and Beth have served Mt. View faithfully for 8 years — let’s make sure we wish them our best as they transition to First UMC\, Ft. Lupton\, CO. We will be collecting cards and notes of good wishes for Steve and Beth – please be sure to share your thoughts and prayers with them as they depart Mt. View. \nIf you have questions\, please contact a representative of the SPRC or Jean Bowen (jeanmbowen@hotmail.com) \n
URL:https://mtview.org/event/celebration-pastor-steve/
CATEGORIES:Events
ATTACH;FMTTYPE=image/jpeg:https://mtview.org/wp-content/uploads/2019/05/6D_03542-XL.jpg
END:VEVENT
END:VCALENDAR