BEGIN:VCALENDAR
VERSION:2.0
PRODID:-//Mountain View United Methodist Church - ECPv4.5.12.3//NONSGML v1.0//EN
CALSCALE:GREGORIAN
METHOD:PUBLISH
X-WR-CALNAME:Mountain View United Methodist Church
X-ORIGINAL-URL:https://mtview.org
X-WR-CALDESC:Events for Mountain View United Methodist Church
BEGIN:VEVENT
DTSTART;VALUE=DATE:20191123
DTEND;VALUE=DATE:20191123
DTSTAMP:20260421T154927
CREATED:20181024T195328Z
LAST-MODIFIED:20191115T193603Z
UID:5048-1574467200-1574553599@mtview.org
SUMMARY:Charge Conference
DESCRIPTION:Charge Conference: Saturday\, November 23\, 9:00 am – 12:00 pm\nMark this date on your calendar for this year’s joint circuit Charge Conference. All are welcome. \n
URL:https://mtview.org/event/charge-conference-2/
CATEGORIES:Events
ATTACH;FMTTYPE=image/jpeg:https://mtview.org/wp-content/uploads/2018/10/IMG_0019.jpg
END:VEVENT
END:VCALENDAR