BEGIN:VCALENDAR
VERSION:2.0
PRODID:-//Mountain View United Methodist Church - ECPv4.5.12.3//NONSGML v1.0//EN
CALSCALE:GREGORIAN
METHOD:PUBLISH
X-WR-CALNAME:Mountain View United Methodist Church
X-ORIGINAL-URL:https://mtview.org
X-WR-CALDESC:Events for Mountain View United Methodist Church
BEGIN:VEVENT
DTSTART;VALUE=DATE:20211017
DTEND;VALUE=DATE:20211017
DTSTAMP:20260421T125701
CREATED:20211001T232051Z
LAST-MODIFIED:20211001T232051Z
UID:7758-1634428800-1634515199@mtview.org
SUMMARY:Christians and Political Engagement
DESCRIPTION:Christians and Political Engagement\n Sunday\, October 17\, during 9:30 am Koinonia Hour in Frasier Parlor\nIn this divisive political climate\, Christians may ask if they are to be involved in political action\, even discussions with friends and family can be difficult. Dr. Miranda Cruz is associate professor of historical theology at Indiana Wesleyan University. Dr. Cruz wrote extensively on this topic during the 2020 election and will be bringing her expertise to Mt. View on Sunday\, October 17 at 9:30 am in Frasier Parlor. Her topic is “Expansive or Exclusive: Christian Political Engagement.” This talk is presented by the Inclusivity Committee with a grant from the Permanent Endowment Committee. \n
URL:https://mtview.org/event/christians-political-engagement/
CATEGORIES:Events
END:VEVENT
END:VCALENDAR