BEGIN:VCALENDAR
VERSION:2.0
PRODID:-//Mountain View United Methodist Church - ECPv4.5.12.3//NONSGML v1.0//EN
CALSCALE:GREGORIAN
METHOD:PUBLISH
X-WR-CALNAME:Mountain View United Methodist Church
X-ORIGINAL-URL:https://mtview.org
X-WR-CALDESC:Events for Mountain View United Methodist Church
BEGIN:VEVENT
DTSTART;VALUE=DATE:20221105
DTEND;VALUE=DATE:20221105
DTSTAMP:20260421T111314
CREATED:20221028T193211Z
LAST-MODIFIED:20221028T193211Z
UID:8502-1667606400-1667692799@mtview.org
SUMMARY:CPR & AED Training at Mt. View
DESCRIPTION:CPR/AED Training at Mt. View \nSaturday\, November 5\, 9:00 – 11:30 am\, Room 111/113 \nCost: $35/person \nLearn how to potentially save a life with CPR and AED (Automated External Defibrillator) training. Sign up today in the Narthex. \n
URL:https://mtview.org/event/cpr-aed-training-mt-view/
CATEGORIES:Events
ATTACH;FMTTYPE=image/jpeg:https://mtview.org/wp-content/uploads/2022/10/Announcement-slide-CPR-AED-Training.jpg
END:VEVENT
END:VCALENDAR