BEGIN:VCALENDAR
VERSION:2.0
PRODID:-//Mountain View United Methodist Church - ECPv4.5.12.3//NONSGML v1.0//EN
CALSCALE:GREGORIAN
METHOD:PUBLISH
X-WR-CALNAME:Mountain View United Methodist Church
X-ORIGINAL-URL:https://mtview.org
X-WR-CALDESC:Events for Mountain View United Methodist Church
BEGIN:VEVENT
DTSTART;VALUE=DATE:20191215
DTEND;VALUE=DATE:20191215
DTSTAMP:20260421T141714
CREATED:20191115T191957Z
LAST-MODIFIED:20191216T175304Z
UID:6183-1576368000-1576454399@mtview.org
SUMMARY:December 15\, 2019
DESCRIPTION:Advent 3 – Mountain View Sings! \n\nDownload (PDF\, 1.84MB) \n  \n
URL:https://mtview.org/event/december-15-2019/
CATEGORIES:Events,Sermons,sunday
END:VEVENT
END:VCALENDAR