BEGIN:VCALENDAR
VERSION:2.0
PRODID:-//Mountain View United Methodist Church - ECPv4.5.12.3//NONSGML v1.0//EN
CALSCALE:GREGORIAN
METHOD:PUBLISH
X-WR-CALNAME:Mountain View United Methodist Church
X-ORIGINAL-URL:https://mtview.org
X-WR-CALDESC:Events for Mountain View United Methodist Church
BEGIN:VEVENT
DTSTART;TZID=America/Denver:20220417T080000
DTEND;TZID=America/Denver:20220417T170000
DTSTAMP:20260422T090604
CREATED:20220330T203537Z
LAST-MODIFIED:20220330T203537Z
UID:8188-1650182400-1650214800@mtview.org
SUMMARY:Easter Egg Hunt!
DESCRIPTION:Easter Egg Hunt: Easter Sunday at 11:45 am \nJoin us for the fun after the Easter Sunday services as we search for eggs outdoors on the lawn! \n
URL:https://mtview.org/event/easter-egg-hunt/
CATEGORIES:Events
ATTACH;FMTTYPE=image/jpeg:https://mtview.org/wp-content/uploads/2022/03/Announcement-slide-Easter-Egg-Hunt.jpg
END:VEVENT
END:VCALENDAR