BEGIN:VCALENDAR
VERSION:2.0
PRODID:-//Mountain View United Methodist Church - ECPv4.5.12.3//NONSGML v1.0//EN
CALSCALE:GREGORIAN
METHOD:PUBLISH
X-WR-CALNAME:Mountain View United Methodist Church
X-ORIGINAL-URL:https://mtview.org
X-WR-CALDESC:Events for Mountain View United Methodist Church
BEGIN:VEVENT
DTSTART;VALUE=DATE:20220906
DTEND;VALUE=DATE:20220906
DTSTAMP:20260421T094447
CREATED:20220804T175601Z
LAST-MODIFIED:20220906T170514Z
UID:8380-1662422400-1662508799@mtview.org
SUMMARY:Fall Book Study with Pastor Stephanie
DESCRIPTION:Fall Book Study with Pastor Stephanie \nSeptember 6 – October 5 \nTuesdays at 6:30 pm online (mtview.org/book-zoom) or Wednesdays at 2:00 pm in person \nDo I Stay Christian?: A Guide for the Doubters\, the Disappointed\, and the Disillusioned\, a new book by Brian McClaren\, will be the basis for a discussion class led by Pastor Stephanie this fall. This book asks publicly a question many are asking privately. McClaren doesn’t suggest the reader run out the door\, nor dig in one’s heels\, but provides a guide to make responsible\, honest\, ethical decisions about their religious identity. This four-week class will be offered Tuesday evenings via Zoom or Wednesday afternoons in person. Books are available from many booksellers. The dates are September 6/7\, September 13/14\, September 27/28\, and October 4/5. Please sign up in the Narthex or by emailing seniorpastor@mtview.org. \n
URL:https://mtview.org/event/fall-book-study-pastor-stephanie/
CATEGORIES:Events
ATTACH;FMTTYPE=image/jpeg:https://mtview.org/wp-content/uploads/2022/08/Announcement-slide-book-study.jpg
END:VEVENT
END:VCALENDAR