BEGIN:VCALENDAR
VERSION:2.0
PRODID:-//Mountain View United Methodist Church - ECPv4.5.12.3//NONSGML v1.0//EN
CALSCALE:GREGORIAN
METHOD:PUBLISH
X-WR-CALNAME:Mountain View United Methodist Church
X-ORIGINAL-URL:https://mtview.org
X-WR-CALDESC:Events for Mountain View United Methodist Church
BEGIN:VEVENT
DTSTART;VALUE=DATE:20170604
DTEND;VALUE=DATE:20170604
DTSTAMP:20260421T143138
CREATED:20170427T021318Z
LAST-MODIFIED:20170427T021318Z
UID:3484-1496534400-1496620799@mtview.org
SUMMARY:Graduate Recognition: Sunday\, June 4
DESCRIPTION:Join us as we honor our graduates at each of this Sunday’s worship services. \n
URL:https://mtview.org/event/graduate-recognition-sunday-june-4/
CATEGORIES:Events
END:VEVENT
END:VCALENDAR