BEGIN:VCALENDAR
VERSION:2.0
PRODID:-//Mountain View United Methodist Church - ECPv4.5.12.3//NONSGML v1.0//EN
CALSCALE:GREGORIAN
METHOD:PUBLISH
X-WR-CALNAME:Mountain View United Methodist Church
X-ORIGINAL-URL:https://mtview.org
X-WR-CALDESC:Events for Mountain View United Methodist Church
BEGIN:VEVENT
DTSTART;VALUE=DATE:20211010
DTEND;VALUE=DATE:20211010
DTSTAMP:20260421T125339
CREATED:20210503T174529Z
LAST-MODIFIED:20211009T145132Z
UID:7344-1633824000-1633910399@mtview.org
SUMMARY:Green Earth Team Book Discussion: Session 2
DESCRIPTION:Join the discussion during Kononia Hour between the early and late services on Sunday\, 9:30 – 10:30 am.  Talks will be led by four longstanding members of our Mountain View Faith community and Green Earth Team. \nThe first discussions will be a book study looking at Bill Gates’ book\, How to Avoid a Climate Disaster: The Solutions We Have and the Breakthroughs We Need. Copies of the book are available in the Narthex to borrow. You are welcome to join whether you have read the book or not. \nOctober 9: The Challenge – Fred Walls & Connie LeClerc \nWe will discuss chapters 4-8 on how we produce electricity\, make things\, grow things\, get around\, and keep cool and stay warm. Fred Walls is a retired experimental physicist who worked at NIST and as a consultant. He has been involved in energy conservation since 1970 and renewable energy since 2005. Connie LeClerc is a retired educator with a lifelong passion for regenerative agriculture. She works at Isabelle Farms building educational awareness and growing real food. \nWatch on Zoom here. (ID: 88996551550\, passcode: kM22EbS1) \n  \n
URL:https://mtview.org/event/green-team-event-2/
CATEGORIES:Events
END:VEVENT
END:VCALENDAR