BEGIN:VCALENDAR
VERSION:2.0
PRODID:-//Mountain View United Methodist Church - ECPv4.5.12.3//NONSGML v1.0//EN
CALSCALE:GREGORIAN
METHOD:PUBLISH
X-WR-CALNAME:Mountain View United Methodist Church
X-ORIGINAL-URL:https://mtview.org
X-WR-CALDESC:Events for Mountain View United Methodist Church
BEGIN:VEVENT
DTSTART;VALUE=DATE:20210912
DTEND;VALUE=DATE:20210912
DTSTAMP:20260421T125233
CREATED:20210503T174428Z
LAST-MODIFIED:20210825T174223Z
UID:7342-1631404800-1631491199@mtview.org
SUMMARY:Green Earth Team Book Discussion: Session 1
DESCRIPTION:Join the discussion during Kononia Hour between the early and late services on Sunday\, 9:30 – 10:30 am.  Talks will be led by four longstanding members of our Mountain View Faith community and Green Earth Team. \nThe first discussions will be a book study looking at Bill Gates’ book\, How to Avoid a Climate Disaster: The Solutions We Have and the Breakthroughs We Need. \nCopies of the book are available in the Narthex to borrow. You are welcome to join whether you have read the book or not. \nSeptember 12: Introduction – Arthur Howe \nWe will discuss the first part of the book\, in which basic facts like population growth\, and food and energy requirements are presented in a very readable colloquial style with penetrating logic. Arthur Howe is a retired chemistry professor from the University of Leeds\, UK\, where he researched solid state proton conductors for application in fuel cells. \n
URL:https://mtview.org/event/green-team-event/
CATEGORIES:Events
END:VEVENT
END:VCALENDAR