BEGIN:VCALENDAR
VERSION:2.0
PRODID:-//Mountain View United Methodist Church - ECPv4.5.12.3//NONSGML v1.0//EN
CALSCALE:GREGORIAN
METHOD:PUBLISH
X-WR-CALNAME:Mountain View United Methodist Church
X-ORIGINAL-URL:https://mtview.org
X-WR-CALDESC:Events for Mountain View United Methodist Church
BEGIN:VEVENT
DTSTART;VALUE=DATE:20211121
DTEND;VALUE=DATE:20211121
DTSTAMP:20260425T204806
CREATED:20161112T055818Z
LAST-MODIFIED:20211111T224113Z
UID:2972-1637452800-1637539199@mtview.org
SUMMARY:Hanging of the Greens
DESCRIPTION:Hanging of the Greens: Sunday\, November 21\, following 10:45 am Worship \nIt’s almost that time! Everyone is invited to stick around after worship next Sunday to help decorate the church and the Chrismon Tree in the Sanctuary. We will have soup\, cheese and crackers\, cookies and hot cider after church to fortify us. Plan to meet in Barker Hall at the end of the 10:45 am service for a light lunch and fellowship. Thank you for helping us prepare the church for the Advent Season. \n
URL:https://mtview.org/event/hanging-of-the-greens/
CATEGORIES:Events
ATTACH;FMTTYPE=image/jpeg:https://mtview.org/wp-content/uploads/2016/11/5D2_0426-X3.jpg
END:VEVENT
END:VCALENDAR