BEGIN:VCALENDAR
VERSION:2.0
PRODID:-//Mountain View United Methodist Church - ECPv4.5.12.3//NONSGML v1.0//EN
CALSCALE:GREGORIAN
METHOD:PUBLISH
X-WR-CALNAME:Mountain View United Methodist Church
X-ORIGINAL-URL:https://mtview.org
X-WR-CALDESC:Events for Mountain View United Methodist Church
BEGIN:VEVENT
DTSTART;VALUE=DATE:20170716
DTEND;VALUE=DATE:20170716
DTSTAMP:20260421T125832
CREATED:20170622T005054Z
LAST-MODIFIED:20170622T005054Z
UID:3589-1500163200-1500249599@mtview.org
SUMMARY:Hymn Sing: July 16 & August 20\, 10:15 am
DESCRIPTION:All are invited to join in the Sanctuary for an informal hymn sing using the hymns that YOU requested! We will continue this tradition through the summer on July 16 and August 20. \n
URL:https://mtview.org/event/hymn-sing-july-16-august-20-1015/
CATEGORIES:Events
ATTACH;FMTTYPE=image/jpeg:https://mtview.org/wp-content/uploads/2017/06/Choir.jpg
END:VEVENT
END:VCALENDAR