BEGIN:VCALENDAR
VERSION:2.0
PRODID:-//Mountain View United Methodist Church - ECPv4.5.12.3//NONSGML v1.0//EN
CALSCALE:GREGORIAN
METHOD:PUBLISH
X-WR-CALNAME:Mountain View United Methodist Church
X-ORIGINAL-URL:https://mtview.org
X-WR-CALDESC:Events for Mountain View United Methodist Church
BEGIN:VEVENT
DTSTART;VALUE=DATE:20210411
DTEND;VALUE=DATE:20210411
DTSTAMP:20260421T142834
CREATED:20210405T171654Z
LAST-MODIFIED:20210407T181931Z
UID:7272-1618099200-1618185599@mtview.org
SUMMARY:Inclusivity Committee Presentation
DESCRIPTION:Inclusivity Committee Presentation: \nSarah Jackson from Casa de Paz \nSunday\, April 11th\, 1:30pm \nCaring for immigrants and their families is the subject our next presentation brought to you by the Inclusivity Committee. Casa de Paz\, started in 2012\, is the only organization in Colorado that provides visits\, shelter\, meals\, transportation\, and emotional support to families separated by immigrant detention. Since they first opened their doors they have hosted 3\,1112 immigrants from seventy countries and the need only continues to grow. Hear from Sarah Jackson\, founder of Casa de Paz\, about her experiences and the experiences of immigrants and their families. Join us on Zoom for a powerful presentation followed by a Q and A. \nJoin the Zoom meeting by clicking here \n(ID: 82439470222\, passcode: 941591) \nJoin by phone (US) +1 312-626-6799 (passcode: 941591) \n
URL:https://mtview.org/event/inclusivity-committee-presentation-2/
CATEGORIES:Events
END:VEVENT
END:VCALENDAR