BEGIN:VCALENDAR
VERSION:2.0
PRODID:-//Mountain View United Methodist Church - ECPv4.5.12.3//NONSGML v1.0//EN
CALSCALE:GREGORIAN
METHOD:PUBLISH
X-WR-CALNAME:Mountain View United Methodist Church
X-ORIGINAL-URL:https://mtview.org
X-WR-CALDESC:Events for Mountain View United Methodist Church
BEGIN:VEVENT
DTSTART;VALUE=DATE:20190728
DTEND;VALUE=DATE:20190728
DTSTAMP:20260421T125449
CREATED:20190613T125636Z
LAST-MODIFIED:20190729T153655Z
UID:5766-1564272000-1564358399@mtview.org
SUMMARY:July 28\, 2019
DESCRIPTION:Summer worship at 10:00 am \nTelling the Story: The World Out There \nMatthew 28: 19-20 \nPastor Stephanie Kidwell \n\nGDE Error: Error retrieving file - if necessary turn off error checking (404:Not Found)\n\n
URL:https://mtview.org/event/july-28-2019/
CATEGORIES:Events,Sermons,sunday
END:VEVENT
END:VCALENDAR