BEGIN:VCALENDAR
VERSION:2.0
PRODID:-//Mountain View United Methodist Church - ECPv4.5.12.3//NONSGML v1.0//EN
CALSCALE:GREGORIAN
METHOD:PUBLISH
X-WR-CALNAME:Mountain View United Methodist Church
X-ORIGINAL-URL:https://mtview.org
X-WR-CALDESC:Events for Mountain View United Methodist Church
BEGIN:VEVENT
DTSTART;VALUE=DATE:20220320
DTEND;VALUE=DATE:20220320
DTSTAMP:20260421T125352
CREATED:20220223T174955Z
LAST-MODIFIED:20220223T174955Z
UID:8082-1647734400-1647820799@mtview.org
SUMMARY:Learn About Together Colorado
DESCRIPTION:People of Various Faith Traditions Organizing to Create a Better World by Pua Aki \nSpeaking of “talking about THAT in church”… Please join us on March 20 during the Koinonia hour to learn about living out our faith and Christ’s teachings through engaging with our state legislative system and advocating for (to use Pastor Stephanie’s words from February 6) the changes we need to see in our world. \nPua Aki and some other community friends will be at Mountain View to tell us about Together Colorado\, a faith-based\, nonpartisan\, and multi-racial community organization working to place human dignity at the center of public life in Colorado. \nThis year\, Together Colorado is supporting several pieces of legislation that will reform our criminal justice system to focus on rehabilitation and social and community support; increase protections for mobile home park residents; set the stage to improve Colorado’s air quality; and ensure our immigrant neighbors can access proper healthcare. \nTogether Colorado is working toward a future where our rights are respected\, our families are safe\, and our communities are vibrant and whole. Come and learn more during Koinonia on March 20\, or find out more at: togetherco.org/legislation. \n
URL:https://mtview.org/event/learn-together-colorado/
CATEGORIES:Events
ATTACH;FMTTYPE=image/jpeg:https://mtview.org/wp-content/uploads/2022/02/Announcement-slide-Learn-about-Together-Colorado.jpg
END:VEVENT
END:VCALENDAR