BEGIN:VCALENDAR
VERSION:2.0
PRODID:-//Mountain View United Methodist Church - ECPv4.5.12.3//NONSGML v1.0//EN
CALSCALE:GREGORIAN
METHOD:PUBLISH
X-WR-CALNAME:Mountain View United Methodist Church
X-ORIGINAL-URL:https://mtview.org
X-WR-CALDESC:Events for Mountain View United Methodist Church
BEGIN:VEVENT
DTSTART;VALUE=DATE:20210829
DTEND;VALUE=DATE:20210829
DTSTAMP:20260421T142049
CREATED:20210803T220642Z
LAST-MODIFIED:20210803T220642Z
UID:7565-1630195200-1630281599@mtview.org
SUMMARY:Ministry Fiesta!
DESCRIPTION:Ministry Fiesta: Aug 29 Between Services \nHave you wondered how you can get involved here at Mt. View? At 9:30 am on August 29 all ministries in the church will have a table set up in Barker Hall (the big room under the Sanctuary). There will be representatives from each ministry to explain how you can be involved\, and sign up sheets available. Breakfast burritos will be provided! It will be a wonderful time to meet others and learn about opportunities for ministry! \n
URL:https://mtview.org/event/ministry-fiesta/
CATEGORIES:Events
END:VEVENT
END:VCALENDAR