BEGIN:VCALENDAR
VERSION:2.0
PRODID:-//Mountain View United Methodist Church - ECPv4.5.12.3//NONSGML v1.0//EN
CALSCALE:GREGORIAN
METHOD:PUBLISH
X-WR-CALNAME:Mountain View United Methodist Church
X-ORIGINAL-URL:https://mtview.org
X-WR-CALDESC:Events for Mountain View United Methodist Church
BEGIN:VEVENT
DTSTART;TZID=UTC+0:20171120T080000
DTEND;TZID=UTC+0:20171120T170000
DTSTAMP:20260421T125609
CREATED:20171110T023140Z
LAST-MODIFIED:20171110T023140Z
UID:3949-1511164800-1511197200@mtview.org
SUMMARY:Mozart Adevu Visits
DESCRIPTION:Mozart Adevu Visits: Monday\, November 20\, Frasier Parlor\nMozart Adevu\, our covenant missionary serving in Ghana\, will be joining us the evening of November 20 for a potluck and presentation on his mission work in Africa. We will be having a supper at 5:30 (bring a side dish or dessert) and Mozart will share his program with us after. Be there to learn of his valuable message and mission to share Our Lord’s blessings to those in Africa. Questions? Contact Mary Beth Downing at mzmbeth@gmail.com. \n
URL:https://mtview.org/event/mozart-adevu-visits/
CATEGORIES:Events
ATTACH;FMTTYPE=image/jpeg:https://mtview.org/wp-content/uploads/2017/11/mozart-adevu-225x225.jpg
END:VEVENT
END:VCALENDAR