BEGIN:VCALENDAR
VERSION:2.0
PRODID:-//Mountain View United Methodist Church - ECPv4.5.12.3//NONSGML v1.0//EN
CALSCALE:GREGORIAN
METHOD:PUBLISH
X-WR-CALNAME:Mountain View United Methodist Church
X-ORIGINAL-URL:https://mtview.org
X-WR-CALDESC:Events for Mountain View United Methodist Church
BEGIN:VEVENT
DTSTART;VALUE=DATE:20221106
DTEND;VALUE=DATE:20221106
DTSTAMP:20260421T123809
CREATED:20221006T175558Z
LAST-MODIFIED:20221006T175558Z
UID:8473-1667692800-1667779199@mtview.org
SUMMARY:New Book Study: Jesus - The God Who Knows Your Name
DESCRIPTION:New Book Study: Jesus – The God Who Knows Your Name \nSundays\, 9:00 am\, November 6 – December 18 \nHave you been enjoying our worshiping time “Freeing Jesus?” Beginning in November\, Judy Davis and Connie Balazs will facilitate a class during the Sunday School hour based on Max Lucado’s book\, Jesus – The God Who Knows Your Name. For six sessions we will explore together the human Jesus. The author states “Because Jesus became human\, it is now possible for us to see God and hear his voice.”  We will begin each class with a short DVD viewing then join into discussion. There is a study guide you can purchase or just attend and join in listening and sharing. We hope you will join in the discussion! \n
URL:https://mtview.org/event/new-book-study-jesus-god-knows-name/
CATEGORIES:Events
ATTACH;FMTTYPE=image/png:https://mtview.org/wp-content/uploads/2022/10/image.png
END:VEVENT
END:VCALENDAR