BEGIN:VCALENDAR
VERSION:2.0
PRODID:-//Mountain View United Methodist Church - ECPv4.5.12.3//NONSGML v1.0//EN
CALSCALE:GREGORIAN
METHOD:PUBLISH
X-WR-CALNAME:Mountain View United Methodist Church
X-ORIGINAL-URL:https://mtview.org
X-WR-CALDESC:Events for Mountain View United Methodist Church
BEGIN:VEVENT
DTSTART;VALUE=DATE:20230110
DTEND;VALUE=DATE:20230110
DTSTAMP:20260421T124550
CREATED:20221208T175703Z
LAST-MODIFIED:20230105T171846Z
UID:8544-1673308800-1673395199@mtview.org
SUMMARY:Book Study with Pastor Stephanie
DESCRIPTION:New Year\, New Book Study \nTuesdays at 7:00 pm on Zoom (mtview.org/book-study) or \nWednesdays at 2:00 pm in Frasier Parlor \nJanuary 10 – February 1 \nPastor Stephanie will lead a book study based on Richard Rohr’s book\, Jesus’ Alternative Plan: The Sermon on the Mount. Rohr is a Franciscan priest who presents spiritual material in new and inviting ways. “Rohr goes through the teachings of the sermon\, explaining the historical and cultural context of each verse and offering guidance for what it means for Christians today. The result is a clear\, yet challenging look at the alternative plan laid out by Jesus for all to see. This updated edition of Jesus’ Plan for a New World will inspire Christians desiring a transformative understanding of Jesus’ teachings and seeking the true heart of their faith.” (Amazon) \nThe class will be offered on Tuesday evenings via Zoom or Wednesday afternoons in person at the church. The class will begin January 10 and 11 running for four weeks. Participants can join on either day. For more information\, contact Pastor Stephanie. \n
URL:https://mtview.org/event/new-year-book-study/
CATEGORIES:Events
ATTACH;FMTTYPE=image/jpeg:https://mtview.org/wp-content/uploads/2022/12/reading-925589.jpg
END:VEVENT
END:VCALENDAR