BEGIN:VCALENDAR
VERSION:2.0
PRODID:-//Mountain View United Methodist Church - ECPv4.5.12.3//NONSGML v1.0//EN
CALSCALE:GREGORIAN
METHOD:PUBLISH
X-WR-CALNAME:Mountain View United Methodist Church
X-ORIGINAL-URL:https://mtview.org
X-WR-CALDESC:Events for Mountain View United Methodist Church
BEGIN:VEVENT
DTSTART;VALUE=DATE:20181023
DTEND;VALUE=DATE:20181023
DTSTAMP:20260421T125419
CREATED:20181012T165059Z
LAST-MODIFIED:20181012T165059Z
UID:4997-1540252800-1540339199@mtview.org
SUMMARY:Osher Lifelong Learning Institute Community Meeting
DESCRIPTION:Osher Lifelong Learning Institute (OLLI) Community Meeting: Tuesday\, October 23\, 10:00 am\, Sanctuary\nOLLI is an adult learning membership program designed for adults age 50 and up who wish to pursue lifelong learning in a relaxed\, discussion-based atmosphere. Courses include subjects ranging from history\, science\, the arts\, current events\, and more. Beginning this winter\, Mountain View will be hosting a number of OLLI classes that are available for the community. All are invited to an informational meeting at the church on Tuesday\, October 23 at 10:00 am to learn more about the classes and workshops offered. For more info visit: portfolio.du.edu/olliboulder \n
URL:https://mtview.org/event/olli-meeting/
CATEGORIES:Events
ATTACH;FMTTYPE=image/jpeg:https://mtview.org/wp-content/uploads/2018/10/OLLI-Community-Meeting.jpg
END:VEVENT
END:VCALENDAR