BEGIN:VCALENDAR
VERSION:2.0
PRODID:-//Mountain View United Methodist Church - ECPv4.5.12.3//NONSGML v1.0//EN
CALSCALE:GREGORIAN
METHOD:PUBLISH
X-WR-CALNAME:Mountain View United Methodist Church
X-ORIGINAL-URL:https://mtview.org
X-WR-CALDESC:Events for Mountain View United Methodist Church
BEGIN:VEVENT
DTSTART;VALUE=DATE:20170927
DTEND;VALUE=DATE:20170927
DTSTAMP:20260421T124217
CREATED:20170915T031826Z
LAST-MODIFIED:20170920T002336Z
UID:3827-1506470400-1506556799@mtview.org
SUMMARY:Pastor's Shared Study
DESCRIPTION:Pastor’s Shared Study to Begin!\nSundays & Wednesdays\, 10:00 am\, Starting September 27 in Frasier Parlor\nStarting on September 27\, Pastors Steve and Sarah will be sharing leadership in a study of Paul’s letter to the Romans. This 7-week experience will be offered on both Sunday and Wednesday mornings for one hour starting at 10:00 am on Wednesday\, September 27. The same material will be presented and discussed at 10:30 am the following Sunday\, October 1. Our Pastors will be alternating between preaching and teaching each week to lead this study. Our focus will be on discussion\, shared interaction\, and insights from class members. Should you choose to join the group on Sunday mornings\, we encourage you to attend worship beforehand\, and drink in the message for that day. \n2017 Schedule – Pastor’s Shared Study of Paul’s letter to the Romans\nWednesday\, September 27th – Romans Intro – Pastor Steve\nOctober 1 – Romans Intro – Pastor Steve \nWednesday\, October 4\, — Romans\, Chapters 1-5 (Faith) — Pastor’s Sarah and Steve\nOctober 8 — Romans\, Chapters 1-5 (Faith) – Sarah and Steve \nWednesday\, October 11 — Romans\, Chapters 1-5 (Faith) — Pastor Sarah\nOctober 15— Romans\, Chapters 1-5 (Faith)) – Sarah \nWednesday\, October 18 — Romans\, Chapters 6-11 (Grace) — Pastor Sarah\nOctober 22 – Romans\, Chapters 6-11 (Grace) — Pastor Sarah \nWednesday\, October 25 — Romans\, Chapters 6-11 (Grace) — Pastor Steve\nOctober 29 — Romans\, Chapters 6-11 (Grace) — Pastor Steve \nWednesday\, November 1 — Romans\, Chapters 12-16 (Therefore) — Pastor Sarah\nNovember 5 — Romans\, Chapters 12-16 (Therefore) – Fall Back! — Pastor Sarah \nWednesday\, November 8 — Romans\, Chapters 12-16 (Therefore) — Pastor Steve\nNovember 12 – Pastor Steve \n  \n
URL:https://mtview.org/event/pastors-shared-study/
CATEGORIES:Events
END:VEVENT
END:VCALENDAR