BEGIN:VCALENDAR
VERSION:2.0
PRODID:-//Mountain View United Methodist Church - ECPv4.5.12.3//NONSGML v1.0//EN
CALSCALE:GREGORIAN
METHOD:PUBLISH
X-WR-CALNAME:Mountain View United Methodist Church
X-ORIGINAL-URL:https://mtview.org
X-WR-CALDESC:Events for Mountain View United Methodist Church
BEGIN:VEVENT
DTSTART;TZID=America/Denver:20230122T080000
DTEND;TZID=America/Denver:20230122T170000
DTSTAMP:20260425T180235
CREATED:20230105T172733Z
LAST-MODIFIED:20230105T172733Z
UID:8595-1674374400-1674406800@mtview.org
SUMMARY:Pura Vida Visit with Mountain View
DESCRIPTION:Pura Vida Visit with Mountain View \nSunday\, January 22\, 9:00 am\, Barker Hall \nPlease plan to join Laura Richards\, a member of the Pura Vida staff as she shares information about the mission of Pura Vida–including scholarships for students in Guatemala\, nutrition programs\, and especially construction and English language camp mission trips to Guatemala. This presentation is co-sponsored by the Mountain View Outreach Team and United Women in Faith/UMW. Currently\, UWF and individual church members sponsor two students in Guatemala by paying their annual tuition for school. Pura Vida and its donors currently sponsor 131 primary\, 184 secondary\, and 42 university students\, but there still are students waiting for sponsors. In 2022\, construction projects built six homes for families in need\, and the mission giving provided Christmas (powdered) milk for 450 families\, and provides ongoing meals to 22 students at a nutrition center in one village in Guatemala. If you would like to learn more about this Colorado-based mission and how you can help children and families in Guatemala\, please plan to join us! For more information\, contact Belinda Strickland at sbstrickland@me.com. \n
URL:https://mtview.org/event/pura-vida-visit-mountain-view/
CATEGORIES:Events
ATTACH;FMTTYPE=image/jpeg:https://mtview.org/wp-content/uploads/2023/01/poster_scholarships_24x36.jpg
END:VEVENT
END:VCALENDAR