BEGIN:VCALENDAR
VERSION:2.0
PRODID:-//Mountain View United Methodist Church - ECPv4.5.12.3//NONSGML v1.0//EN
CALSCALE:GREGORIAN
METHOD:PUBLISH
X-WR-CALNAME:Mountain View United Methodist Church
X-ORIGINAL-URL:https://mtview.org
X-WR-CALDESC:Events for Mountain View United Methodist Church
BEGIN:VEVENT
DTSTART;VALUE=DATE:20210814
DTEND;VALUE=DATE:20210814
DTSTAMP:20260419T125759
CREATED:20210803T212325Z
LAST-MODIFIED:20210803T212325Z
UID:7559-1628899200-1628985599@mtview.org
SUMMARY:Remodeling Extravaganza!
DESCRIPTION:You’re Invited to a Remodeling Extravaganza! \nSaturday\, August 14\, 8:00 am – 4:00 pm \nAre you looking to be a part of a fulfilling experience? Well look no further…This upcoming small remodeling project is your chance! On August 14\, brave volunteers will bring their skills together to help in the construction of an office for our Director of  Children\, Family\, & Youth Ministries\, Larissa Hoffman! While working alongside our Facilities Manager\, we will knock out a wall! Put in a door! Frame a wall! Hang drywall! Mud\, sand & paint. And most importantly laugh\, connect\, and learn. Be a part of this project of purpose. All skill levels are welcomed! Contact Kyle Perez if you’re interested: facilities@mtview.org. \n
URL:https://mtview.org/event/remodeling-extravaganza/
CATEGORIES:Events
ATTACH;FMTTYPE=image/jpeg:https://mtview.org/wp-content/uploads/2021/08/Announcement-slide-Remodeling.jpg
END:VEVENT
END:VCALENDAR