BEGIN:VCALENDAR
VERSION:2.0
PRODID:-//Mountain View United Methodist Church - ECPv4.5.12.3//NONSGML v1.0//EN
CALSCALE:GREGORIAN
METHOD:PUBLISH
X-WR-CALNAME:Mountain View United Methodist Church
X-ORIGINAL-URL:https://mtview.org
X-WR-CALDESC:Events for Mountain View United Methodist Church
BEGIN:VEVENT
DTSTART;VALUE=DATE:20230129
DTEND;VALUE=DATE:20230129
DTSTAMP:20260425T180345
CREATED:20221208T191605Z
LAST-MODIFIED:20230124T183806Z
UID:8559-1674950400-1675036799@mtview.org
SUMMARY:Social Justice Committee Presentation on the Criminalization of Women’s Health
DESCRIPTION:Social Justice Committee Presentation on the Criminalization of Women’s Health \nSunday\, January 29\, 9:00 am\, Frasier Parlor \nJoin the Zoom here \nWhen the U.S. Supreme Court in the Dobbs case overturned Roe v. Wade it also revived old laws slumbering on the books in a number of states criminalizing abortion. Women seeking abortion and their health care providers now fear prosecution for various felonies up to and including murder. Even women seeking treatment for miscarriages and other health issues unrelated to abortion are suspect and run the risk of being caught up in criminal investigations and prosecutions. \nColorado is not one of these states. In fact it was the first state to decriminalize abortion. Here abortion and reproductive health care remain safe\, legal and protected. Now our state is one of the end stations on the Underground Railroad for women fleeing states where reproductive health is criminalized. Colorado has become a safe haven and a regional hub for abortion access. \nCobalt is a Colorado non-profit dedicated to protecting access to abortion and providing assistance to these women. At an open forum at 9:00 am in Frasier Parlor on Sunday\, January 29 Cobalt will explain its work\, the women it helps\, the risks\, threats and traumas these women face and the assistance\, support and care it provides. There will be Q and A and discussion following Cobalt’s presentation. The Social Justice Committee and United Women in Faith invite you to join us for this compelling story. \n
URL:https://mtview.org/event/social-justice-committee-presentation-criminalization-womens-health/
CATEGORIES:Events
ATTACH;FMTTYPE=image/jpeg:https://mtview.org/wp-content/uploads/2022/12/Announcement-slide-Social-Justice.jpg
END:VEVENT
END:VCALENDAR