BEGIN:VCALENDAR
VERSION:2.0
PRODID:-//Mountain View United Methodist Church - ECPv4.5.12.3//NONSGML v1.0//EN
CALSCALE:GREGORIAN
METHOD:PUBLISH
X-WR-CALNAME:Mountain View United Methodist Church
X-ORIGINAL-URL:https://mtview.org
X-WR-CALDESC:Events for Mountain View United Methodist Church
BEGIN:VEVENT
DTSTART;VALUE=DATE:20190807
DTEND;VALUE=DATE:20190807
DTSTAMP:20260421T124054
CREATED:20190703T180251Z
LAST-MODIFIED:20190703T180251Z
UID:5833-1565136000-1565222399@mtview.org
SUMMARY:Solo's Do Lunch
DESCRIPTION:Solos Take a Break for July\nBUT – we will reconvene at 11:00 am on Wednesday\, August 7 at Frasier in the South Fork (main) dining room. After lunch we will get a tour of the new Arts and Education building – aren’t you curious? All Mt. View ladies of about age 50 or older (single or not) and their friends are welcome. Please make your reservation with Jo Ann Joselyn (jjoselyn@earthlink.net; 720 562 8027) by Monday August 5. \n
URL:https://mtview.org/event/solos/
CATEGORIES:Events
END:VEVENT
END:VCALENDAR