BEGIN:VCALENDAR
VERSION:2.0
PRODID:-//Mountain View United Methodist Church - ECPv4.5.12.3//NONSGML v1.0//EN
CALSCALE:GREGORIAN
METHOD:PUBLISH
X-WR-CALNAME:Mountain View United Methodist Church
X-ORIGINAL-URL:https://mtview.org
X-WR-CALDESC:Events for Mountain View United Methodist Church
BEGIN:VEVENT
DTSTART;VALUE=DATE:20211110
DTEND;VALUE=DATE:20211110
DTSTAMP:20260421T125554
CREATED:20210702T214617Z
LAST-MODIFIED:20211105T211509Z
UID:7520-1636502400-1636588799@mtview.org
SUMMARY:Strangers as Neighbors
DESCRIPTION:Strangers as Neighbors Meets November 10 \nThe Strangers as Neighbors immigration study group will plan to meet via Zoom on November 10 at 7:00 pm.  We’ll verify that all ‘pen pals’ have completed the Casa de Paz training and begin our letter writing to a recent immigrant.  We will plan for the Advent season. For more information\, contact Trudy Gygi at 303-521-9927.  \n
URL:https://mtview.org/event/strangers-as-neighbors/
CATEGORIES:Events
END:VEVENT
END:VCALENDAR