BEGIN:VCALENDAR
VERSION:2.0
PRODID:-//Mountain View United Methodist Church - ECPv4.5.12.3//NONSGML v1.0//EN
CALSCALE:GREGORIAN
METHOD:PUBLISH
X-WR-CALNAME:Mountain View United Methodist Church
X-ORIGINAL-URL:https://mtview.org
X-WR-CALDESC:Events for Mountain View United Methodist Church
BEGIN:VEVENT
DTSTART;VALUE=DATE:20220720
DTEND;VALUE=DATE:20220720
DTSTAMP:20260421T123609
CREATED:20220505T204110Z
LAST-MODIFIED:20220505T204110Z
UID:8257-1658275200-1658361599@mtview.org
SUMMARY:Summer Picnic with Friends!
DESCRIPTION:Summer Picnic with Friends! \nWednesday\, July 20\, 5:30 pm \nCome enjoy a summer evening picnic with friends in the beauty of the yard. \n
URL:https://mtview.org/event/summer-picnic-friends/
CATEGORIES:Events
END:VEVENT
END:VCALENDAR