BEGIN:VCALENDAR
VERSION:2.0
PRODID:-//Mountain View United Methodist Church - ECPv4.5.12.3//NONSGML v1.0//EN
CALSCALE:GREGORIAN
METHOD:PUBLISH
X-WR-CALNAME:Mountain View United Methodist Church
X-ORIGINAL-URL:https://mtview.org
X-WR-CALDESC:Events for Mountain View United Methodist Church
BEGIN:VEVENT
DTSTART;VALUE=DATE:20220529
DTEND;VALUE=DATE:20220529
DTSTAMP:20260425T203024
CREATED:20220505T202725Z
LAST-MODIFIED:20220505T202750Z
UID:8251-1653782400-1653868799@mtview.org
SUMMARY:Summer Worship Begins
DESCRIPTION:Summer Worship Begins \nSunday\, May 29 – September 11\, 10:00 am \nJoin us for Summer worship indoors at 10:00 am beginning May 29. \nThroughout the pandemic we were blessed to be able to worship together outdoors once a month. It was miraculous that the weather was uncooperative only one time! The joy of gathering to praise and worship in the midst of God’s creation was a gift indeed. We will continue that tradition this summer as we worship outside on the second Sunday of the month. We will be on the front lawn\, June 12\, July 10\, and August 14. Bring your own lawn chair or blanket! \n
URL:https://mtview.org/event/summer-worship-begins/
CATEGORIES:Events
ATTACH;FMTTYPE=image/jpeg:https://mtview.org/wp-content/uploads/2022/05/Announcement-slide-Summer-Worhsip.jpg
END:VEVENT
END:VCALENDAR