BEGIN:VCALENDAR
VERSION:2.0
PRODID:-//Mountain View United Methodist Church - ECPv4.5.12.3//NONSGML v1.0//EN
CALSCALE:GREGORIAN
METHOD:PUBLISH
X-WR-CALNAME:Mountain View United Methodist Church
X-ORIGINAL-URL:https://mtview.org
X-WR-CALDESC:Events for Mountain View United Methodist Church
BEGIN:VEVENT
DTSTART;VALUE=DATE:20181223
DTEND;VALUE=DATE:20181223
DTSTAMP:20260421T125534
CREATED:20181024T193954Z
LAST-MODIFIED:20181220T181746Z
UID:5037-1545523200-1545609599@mtview.org
SUMMARY:Sunday\, December 23
DESCRIPTION:Advent 4 \nCombined worship at 10:30 am \nSermon: “Recognition” by Pastor Steven K. Warren \nScripture: Luke 1: 39-45 \n\nGDE Error: Error retrieving file - if necessary turn off error checking (404:Not Found)\n\n
URL:https://mtview.org/event/sunday-december-23/
CATEGORIES:Events,Sermons,sunday
END:VEVENT
END:VCALENDAR