BEGIN:VCALENDAR
VERSION:2.0
PRODID:-//Mountain View United Methodist Church - ECPv4.5.12.3//NONSGML v1.0//EN
CALSCALE:GREGORIAN
METHOD:PUBLISH
X-WR-CALNAME:Mountain View United Methodist Church
X-ORIGINAL-URL:https://mtview.org
X-WR-CALDESC:Events for Mountain View United Methodist Church
BEGIN:VEVENT
DTSTART;VALUE=DATE:20170702
DTEND;VALUE=DATE:20170702
DTSTAMP:20260425T191543
CREATED:20170627T213136Z
LAST-MODIFIED:20170630T022421Z
UID:3603-1498953600-1499039999@mtview.org
SUMMARY:Sunday\, July 2: Quenching Our Thirsts
DESCRIPTION:Sermon: “Quenching our Thirsts\,” by Pastor Steven K. Warren \nScripture: Matthew 10: 40-42 \n\nGDE Error: Error retrieving file - if necessary turn off error checking (404:Not Found)\n\n
URL:https://mtview.org/event/sunday-july-2/
CATEGORIES:Events,Sermons,sunday
END:VEVENT
END:VCALENDAR