BEGIN:VCALENDAR
VERSION:2.0
PRODID:-//Mountain View United Methodist Church - ECPv4.5.12.3//NONSGML v1.0//EN
CALSCALE:GREGORIAN
METHOD:PUBLISH
X-WR-CALNAME:Mountain View United Methodist Church
X-ORIGINAL-URL:https://mtview.org
X-WR-CALDESC:Events for Mountain View United Methodist Church
BEGIN:VEVENT
DTSTART;VALUE=DATE:20180729
DTEND;VALUE=DATE:20180729
DTSTAMP:20260421T100036
CREATED:20180727T014707Z
LAST-MODIFIED:20180730T213559Z
UID:4639-1532822400-1532908799@mtview.org
SUMMARY:Sunday\, July 29
DESCRIPTION:Sermon: “I Shall Not Want\,” by Pastor Sarah Merchant \nScripture: Psalm 23:1\, Matthew 6: 25-34 \n\nGDE Error: Error retrieving file - if necessary turn off error checking (404:Not Found)\n\n
URL:https://mtview.org/event/sunday-july-29/
CATEGORIES:Events,Sermons,sunday
END:VEVENT
END:VCALENDAR