BEGIN:VCALENDAR
VERSION:2.0
PRODID:-//Mountain View United Methodist Church - ECPv4.5.12.3//NONSGML v1.0//EN
CALSCALE:GREGORIAN
METHOD:PUBLISH
X-WR-CALNAME:Mountain View United Methodist Church
X-ORIGINAL-URL:https://mtview.org
X-WR-CALDESC:Events for Mountain View United Methodist Church
BEGIN:VEVENT
DTSTART;VALUE=DATE:20180916
DTEND;VALUE=DATE:20180916
DTSTAMP:20260421T125604
CREATED:20180731T170852Z
LAST-MODIFIED:20180917T165053Z
UID:4695-1537056000-1537142399@mtview.org
SUMMARY:Sunday\, September 16
DESCRIPTION:Sermon: ” Worship: Holy Expectancy\, Holy Obedience\,” by Pastor Sarah Merchant \nScripture: Exodus 15:1-2\, Col 3:16 \nSpiritual Practice: Worship \n\nGDE Error: Error retrieving file - if necessary turn off error checking (404:Not Found)\n\n
URL:https://mtview.org/event/sunday-september-16/
CATEGORIES:Events,Sermons,sunday
END:VEVENT
END:VCALENDAR