BEGIN:VCALENDAR
VERSION:2.0
PRODID:-//Mountain View United Methodist Church - ECPv4.5.12.3//NONSGML v1.0//EN
CALSCALE:GREGORIAN
METHOD:PUBLISH
X-WR-CALNAME:Mountain View United Methodist Church
X-ORIGINAL-URL:https://mtview.org
X-WR-CALDESC:Events for Mountain View United Methodist Church
BEGIN:VEVENT
DTSTART;VALUE=DATE:20170917
DTEND;VALUE=DATE:20170917
DTSTAMP:20260421T125539
CREATED:20170915T030748Z
LAST-MODIFIED:20170925T224314Z
UID:3809-1505606400-1505692799@mtview.org
SUMMARY:Sunday\, September 17
DESCRIPTION:Sermon: “Forgiveness Must Lead Us Somewhere New\,” by Pastor Sarah Merchant \nScripture: Matthew 18: 21-35 \n\nGDE Error: Error retrieving file - if necessary turn off error checking (404:Not Found)\n\n
URL:https://mtview.org/event/sunday-september-17/
CATEGORIES:Events,Sermons,sunday
END:VEVENT
END:VCALENDAR