BEGIN:VCALENDAR
VERSION:2.0
PRODID:-//Mountain View United Methodist Church - ECPv4.5.12.3//NONSGML v1.0//EN
CALSCALE:GREGORIAN
METHOD:PUBLISH
X-WR-CALNAME:Mountain View United Methodist Church
X-ORIGINAL-URL:https://mtview.org
X-WR-CALDESC:Events for Mountain View United Methodist Church
BEGIN:VEVENT
DTSTART;VALUE=DATE:20170903
DTEND;VALUE=DATE:20170903
DTSTAMP:20260425T175847
CREATED:20170812T012917Z
LAST-MODIFIED:20170908T233548Z
UID:3696-1504396800-1504483199@mtview.org
SUMMARY:Sunday\, September 3: Will You Come and Follow Me?
DESCRIPTION:Sermon: “Will You Come and Follow Me?” by Pastor Sarah Merchant \nScripture: Matthew 16: 21-28 \nTheme: Jesus raises a high bar in following him. For him it is not a half-baked way of life. And yet\, Jesus stills helps us realize the various modes we can take for the same outcome\, a whole life in pouring out to be filled up again. Self- sacrifice leads to finding true self.  Behavior and belief lead to this. \n\nGDE Error: Error retrieving file - if necessary turn off error checking (404:Not Found)\n\n
URL:https://mtview.org/event/sunday-september-3/
CATEGORIES:Events,Sermons,sunday
END:VEVENT
END:VCALENDAR