BEGIN:VCALENDAR
VERSION:2.0
PRODID:-//Mountain View United Methodist Church - ECPv4.5.12.3//NONSGML v1.0//EN
CALSCALE:GREGORIAN
METHOD:PUBLISH
X-WR-CALNAME:Mountain View United Methodist Church
X-ORIGINAL-URL:https://mtview.org
X-WR-CALDESC:Events for Mountain View United Methodist Church
BEGIN:VEVENT
DTSTART;VALUE=DATE:20210314
DTEND;VALUE=DATE:20210314
DTSTAMP:20260421T125730
CREATED:20210306T184302Z
LAST-MODIFIED:20210306T184446Z
UID:7194-1615680000-1615766399@mtview.org
SUMMARY:UMCOR/One Great Hour of Sharing: Sunday\, March 14
DESCRIPTION:UMCOR/One Great Hour of Sharing: Sunday\, March 14  \nA Big Deal For Giving\nSunday\, March 14 we will be celebrating UMCOR Sunday\, aka One Great Hour of Sharing.  In case you didn’t know\, UMCOR is the mother of all charity organizations.  It funds almost every outreach gesture of UMC efficiently and quickly\, such as relief to wildfire areas\, water damage to Texas and our missionary in Ghana. \nWe will gladly accept your donations throughout the month of March\, not just the 14th.  If you wish to make out a check to MVUMC with the memo section clearly labelled “UMCOR”.  You may send it to the office or drop it off.  This is not a part of the general fund. \nIn these days of great and many needs\, UMCOR is a great use of your money. \n
URL:https://mtview.org/event/umcorone-great-hour-sharing-sunday-march-14/
CATEGORIES:Events
ATTACH;FMTTYPE=image/jpeg:https://mtview.org/wp-content/uploads/2020/03/2019-umcor-sunday.jpeg
END:VEVENT
END:VCALENDAR