BEGIN:VCALENDAR
VERSION:2.0
PRODID:-//Mountain View United Methodist Church - ECPv4.5.12.3//NONSGML v1.0//EN
CALSCALE:GREGORIAN
METHOD:PUBLISH
X-WR-CALNAME:Mountain View United Methodist Church
X-ORIGINAL-URL:https://mtview.org
X-WR-CALDESC:Events for Mountain View United Methodist Church
BEGIN:VEVENT
DTSTART;VALUE=DATE:20220317
DTEND;VALUE=DATE:20220317
DTSTAMP:20260421T125333
CREATED:20201209T220922Z
LAST-MODIFIED:20220315T162320Z
UID:6940-1647475200-1647561599@mtview.org
SUMMARY:UMW Executive Board
DESCRIPTION:UMW Executive Board: March 17 \nThe UMW Executive Board will meet on March 17- at 1:00 pm\, in-person in Frasier Parlor.  We also will have a Zoom link for members who are unable to join us in person. \n Join the Zoom here ID: 86843327207\, passcode: 481617) \n
URL:https://mtview.org/event/umw-executive-board/
CATEGORIES:Events
END:VEVENT
END:VCALENDAR