BEGIN:VCALENDAR
VERSION:2.0
PRODID:-//Mountain View United Methodist Church - ECPv4.5.12.3//NONSGML v1.0//EN
CALSCALE:GREGORIAN
METHOD:PUBLISH
X-WR-CALNAME:Mountain View United Methodist Church
X-ORIGINAL-URL:https://mtview.org
X-WR-CALDESC:Events for Mountain View United Methodist Church
BEGIN:VEVENT
DTSTART;VALUE=DATE:20191203
DTEND;VALUE=DATE:20191203
DTSTAMP:20260421T125650
CREATED:20181115T201255Z
LAST-MODIFIED:20191115T192513Z
UID:5116-1575331200-1575417599@mtview.org
SUMMARY:UMW Holiday Potluck
DESCRIPTION:UMW Circles Celebrate Christmas \n The Wesley Annes circle will meet Tuesday\, December 3 at 11:30 a.m. in Frasier Parlor for a Christmas potluck.  All church women and friends are invited to attend.  We’ll have a wonderful lunch\, sing a few carols and enjoy reflections on the season of our Savior’s birth. \n
URL:https://mtview.org/event/umw-holiday-potluck/
CATEGORIES:Events
END:VEVENT
END:VCALENDAR