BEGIN:VCALENDAR
VERSION:2.0
PRODID:-//Mountain View United Methodist Church - ECPv4.5.12.3//NONSGML v1.0//EN
CALSCALE:GREGORIAN
METHOD:PUBLISH
X-WR-CALNAME:Mountain View United Methodist Church
X-ORIGINAL-URL:https://mtview.org
X-WR-CALDESC:Events for Mountain View United Methodist Church
BEGIN:VEVENT
DTSTART;VALUE=DATE:20210403
DTEND;VALUE=DATE:20210403
DTSTAMP:20260421T142135
CREATED:20210313T181249Z
LAST-MODIFIED:20210313T181249Z
UID:7219-1617408000-1617494399@mtview.org
SUMMARY:Way of the Cross
DESCRIPTION:April 3\, 6:45 pm: Way of the Cross \nJourney around the church to celebrate the traditional 14 Stations of the Cross \nOn Saturday evening\, we will have two services\, very nearly back-to-back. The first will be celebrating the Way of the Cross. We will actually journey around the outside of the church and stop along the way to meditate at various groupings of the stations of the cross. It will be an interactive and participatory service\, where various people can carry the cross from location to location. This will serve as a powerful reminder of the journey Jesus took to his own crucifixion. \n
URL:https://mtview.org/event/way-of-the-cross/
CATEGORIES:Events
END:VEVENT
END:VCALENDAR