BEGIN:VCALENDAR
VERSION:2.0
PRODID:-//Mountain View United Methodist Church - ECPv4.5.12.3//NONSGML v1.0//EN
CALSCALE:GREGORIAN
METHOD:PUBLISH
X-WR-CALNAME:Mountain View United Methodist Church
X-ORIGINAL-URL:https://mtview.org
X-WR-CALDESC:Events for Mountain View United Methodist Church
BEGIN:VEVENT
DTSTART;VALUE=DATE:20210926
DTEND;VALUE=DATE:20210926
DTSTAMP:20260421T125648
CREATED:20210902T213617Z
LAST-MODIFIED:20210902T213617Z
UID:7661-1632614400-1632700799@mtview.org
SUMMARY:Weld County Ramblers Lead Worship
DESCRIPTION:The Weld County Ramblers\, a musical group led by Rev. Mark Heiss will be here to provide the worship services on September 26. Of this group\, Rev. Skip Strickland wrote\, “The Weld County Ramblers will through Bluegrass Gospel music\, humor\, and worship leadership. They offer an uplifting\, toe tapping\, heart felt opportunity for a congregation to experience the moving of the Spirit.” Come to worship that day at 8:30 or 10:45 am\, bring a friend\, and let your spirit soar! \n
URL:https://mtview.org/event/weld-county-ramblers-lead-worship/
CATEGORIES:Events
END:VEVENT
END:VCALENDAR