BEGIN:VCALENDAR
VERSION:2.0
PRODID:-//Mountain View United Methodist Church - ECPv4.5.12.3//NONSGML v1.0//EN
CALSCALE:GREGORIAN
METHOD:PUBLISH
X-WR-CALNAME:Mountain View United Methodist Church
X-ORIGINAL-URL:https://mtview.org
X-WR-CALDESC:Events for Mountain View United Methodist Church
BEGIN:VEVENT
DTSTART;VALUE=DATE:20211010
DTEND;VALUE=DATE:20211010
DTSTAMP:20260421T125529
CREATED:20211001T232410Z
LAST-MODIFIED:20211001T232410Z
UID:7764-1633824000-1633910399@mtview.org
SUMMARY:Words of Affirmation
DESCRIPTION:Have you ever noticed the painted rocks with words of encouragement? Perhaps they have brightened your day? Have you ever wondered where they came from? Now you can be part of spreading those affirming rocks. On Sunday\, October 10 rocks\, paints\, and words will be available from 9:15 until 10:30 am outside during Koinonia hour. The rocks will be displayed for a bit at the church and then these positive words will make their way out into the world.  \n
URL:https://mtview.org/event/words-of-affirmation/
CATEGORIES:Events
END:VEVENT
END:VCALENDAR