BEGIN:VCALENDAR
VERSION:2.0
PRODID:-//Mountain View United Methodist Church - ECPv4.5.12.3//NONSGML v1.0//EN
CALSCALE:GREGORIAN
METHOD:PUBLISH
X-WR-CALNAME:Mountain View United Methodist Church
X-ORIGINAL-URL:https://mtview.org
X-WR-CALDESC:Events for Mountain View United Methodist Church
BEGIN:VEVENT
DTSTART;VALUE=DATE:20211017
DTEND;VALUE=DATE:20211017
DTSTAMP:20260421T124417
CREATED:20180731T171617Z
LAST-MODIFIED:20211001T231407Z
UID:4705-1634428800-1634515199@mtview.org
SUMMARY:WOW Meeting via Zoom and in Person!
DESCRIPTION:WOW Meeting via Zoom and in Person!   \nWOW will hold a hybrid meeting (Zoom and in-person in Room 110) on Oct. 17\, at 8:30 am. We will continue our discussion of Chapter 1\, The Beatitudes in our new book\, Sermon on the Mount\, by Amy-Jill Levine.  Please contact Jean Bowen at 303-443-3225 for more information.  \n
URL:https://mtview.org/event/wow-meets/
CATEGORIES:Events
ATTACH;FMTTYPE=image/jpeg:https://mtview.org/wp-content/uploads/2021/10/9781501899911.jpeg
END:VEVENT
END:VCALENDAR