BEGIN:VCALENDAR
VERSION:2.0
PRODID:-//Mountain View United Methodist Church - ECPv4.5.12.3//NONSGML v1.0//EN
CALSCALE:GREGORIAN
METHOD:PUBLISH
X-WR-CALNAME:Mountain View United Methodist Church
X-ORIGINAL-URL:https://mtview.org
X-WR-CALDESC:Events for Mountain View United Methodist Church
BEGIN:VEVENT
DTSTART;VALUE=DATE:20190908
DTEND;VALUE=DATE:20190908
DTSTAMP:20260421T150543
CREATED:20190822T205335Z
LAST-MODIFIED:20190822T205335Z
UID:6008-1567900800-1567987199@mtview.org
SUMMARY:Youth Family Cookout
DESCRIPTION:Youth & Family Cookout: Sunday\, September 8\, 5:30 pm at the Parsonage\, for youth 6th-12th grade and their families\nBring a side dish or dessert to share and take the time to share your ideas for youth group! RSVP to office@mtview.org. \n
URL:https://mtview.org/event/youth-family-cookout/
CATEGORIES:Events
END:VEVENT
END:VCALENDAR