BEGIN:VCALENDAR
VERSION:2.0
PRODID:-//Mountain View United Methodist Church - ECPv4.5.12.3//NONSGML v1.0//EN
CALSCALE:GREGORIAN
METHOD:PUBLISH
X-WR-CALNAME:Mountain View United Methodist Church
X-ORIGINAL-URL:https://mtview.org
X-WR-CALDESC:Events for Mountain View United Methodist Church
BEGIN:VEVENT
DTSTART;VALUE=DATE:20220612
DTEND;VALUE=DATE:20220618
DTSTAMP:20260421T134732
CREATED:20220113T192310Z
LAST-MODIFIED:20220113T193116Z
UID:8001-1654992000-1655596799@mtview.org
SUMMARY:Youth Mission Trip
DESCRIPTION:\nDownload (PDF\, 150KB)  \n\nRegister online here!!\nCrossfyre Youth Mission Trip  \nJune 12-18\, 2022 \nAll youth are invited to join us as we travel to the Pineridge Reservation in South Dakota. As the poorest reservation in the country\, this community is affected by alcoholism\, drug abuse\, broken families\, and extreme poverty. We will be working alongside community members doing construction projects\, home repairs\, and whatever else might be needed. We will also learn about the culture and traditions of the people who call the reservation home. If you are interesting in more information or are wondering how you can participate\, contact Larissa Hoffman\, Director of Youth Ministries\, at children@mtview.org. \n
URL:https://mtview.org/event/youth-mission-trip/
CATEGORIES:Events
END:VEVENT
END:VCALENDAR